Back to Multiple platform build/check report for BioC 3.14
ABCDEFGHIJKLMNOPQ[R]STUVWXYZ

This page was generated on 2021-10-14 12:04:52 -0400 (Thu, 14 Oct 2021).

All results for package Rsubread

To the developers/maintainers of the Rsubread package:
- Please allow up to 24 hours (and sometimes 48 hours) for your latest push to git@git.bioconductor.org:packages/Rsubread.git to
reflect on this report. See How and When does the builder pull? When will my changes propagate? here for more information.
- Make sure to use the following settings in order to reproduce any error or warning you see on this page.

raw results

Package 1641/2056HostnameOS / ArchINSTALLBUILDCHECKBUILD BIN
Rsubread 2.7.5  (landing page)
Wei Shi , Yang Liao and Gordon K Smyth
Snapshot Date: 2021-10-13 14:50:09 -0400 (Wed, 13 Oct 2021)
git_url: https://git.bioconductor.org/packages/Rsubread
git_branch: master
git_last_commit: 20ae633
git_last_commit_date: 2021-10-12 22:49:09 -0400 (Tue, 12 Oct 2021)
nebbiolo2Linux (Ubuntu 20.04.2 LTS) / x86_64  OK    OK    OK  UNNEEDED, same version is already published
riesling1Windows Server 2019 Standard / x64  OK    OK    OK    OK  UNNEEDED, same version is already published
merida1macOS 10.14.6 Mojave / x86_64  OK    OK    OK    NA  

Results for Bioconductor software packages that depend directly on package Rsubread

QUICK STATSOS / ArchINSTALLBUILDCHECKBUILD BIN
nebbiolo2Linux (Ubuntu 20.04.2 LTS) / x86_64
007
007
0016
riesling1Windows Server 2019 Standard / x64
005
005
0014
005
merida1macOS 10.14.6 Mojave / x86_64
007
007
0016
005
Package 1/7HostnameOS / ArchINSTALLBUILDCHECKBUILD BIN
APAlyzer 1.7.3  (landing page)
Ruijia Wang
git_last_commit: f77faaa
git_last_commit_date: 2021-07-31 11:50:33 -0400
nebbiolo2Linux (Ubuntu 20.04.2 LTS) / x86_64  OK    OK    WARNINGS  UNNEEDED, same version is already published
riesling1Windows Server 2019 Standard / x64  OK    OK    WARNINGS    OK  UNNEEDED, same version is already published
merida1macOS 10.14.6 Mojave / x86_64  OK    OK    WARNINGS    OK  UNNEEDED, same version is already published
Package 2/7HostnameOS / ArchINSTALLBUILDCHECKBUILD BIN
diffUTR 1.1.2  (landing page)
Pierre-Luc Germain
git_last_commit: 1e52840
git_last_commit_date: 2021-09-23 11:58:01 -0400
nebbiolo2Linux (Ubuntu 20.04.2 LTS) / x86_64  OK    OK    OK  UNNEEDED, same version is already published
riesling1Windows Server 2019 Standard / x64  OK    OK    OK    OK  UNNEEDED, same version is already published
merida1macOS 10.14.6 Mojave / x86_64  OK    OK    OK    OK  UNNEEDED, same version is already published
Package 3/7HostnameOS / ArchINSTALLBUILDCHECKBUILD BIN
dupRadar 1.23.0  (landing page)
Sergi Sayols , Holger Klein
git_last_commit: ee87138
git_last_commit_date: 2021-05-19 12:15:40 -0400
nebbiolo2Linux (Ubuntu 20.04.2 LTS) / x86_64  OK    OK    OK  UNNEEDED, same version is already published
riesling1Windows Server 2019 Standard / x64... NOT SUPPORTED ...
merida1macOS 10.14.6 Mojave / x86_64  OK    OK    OK    OK  UNNEEDED, same version is already published
Package 4/7HostnameOS / ArchINSTALLBUILDCHECKBUILD BIN
ExCluster 1.11.0  (landing page)
R. Matthew Tanner
git_last_commit: 04d835f
git_last_commit_date: 2021-05-19 12:38:14 -0400
nebbiolo2Linux (Ubuntu 20.04.2 LTS) / x86_64  OK    OK    OK  UNNEEDED, same version is already published
riesling1Windows Server 2019 Standard / x64... NOT SUPPORTED ...
merida1macOS 10.14.6 Mojave / x86_64  OK    OK    OK    OK  UNNEEDED, same version is already published
Package 5/7HostnameOS / ArchINSTALLBUILDCHECKBUILD BIN
FRASER 1.5.0  (landing page)
Christian Mertes
git_last_commit: 8ebdd0a
git_last_commit_date: 2021-05-19 12:51:54 -0400
nebbiolo2Linux (Ubuntu 20.04.2 LTS) / x86_64  OK    OK    OK  UNNEEDED, same version is already published
riesling1Windows Server 2019 Standard / x64  OK    OK    OK    OK  UNNEEDED, same version is already published
merida1macOS 10.14.6 Mojave / x86_64  OK    OK    OK    OK  UNNEEDED, same version is already published
Package 6/7HostnameOS / ArchINSTALLBUILDCHECKBUILD BIN
ribosomeProfilingQC 1.5.0  (landing page)
Jianhong Ou
git_last_commit: 7503f41
git_last_commit_date: 2021-05-19 12:49:46 -0400
nebbiolo2Linux (Ubuntu 20.04.2 LTS) / x86_64  OK    OK    OK  UNNEEDED, same version is already published
riesling1Windows Server 2019 Standard / x64  OK    OK    OK    OK  UNNEEDED, same version is already published
merida1macOS 10.14.6 Mojave / x86_64  OK    OK    OK    NA  
Package 7/7HostnameOS / ArchINSTALLBUILDCHECKBUILD BIN
scruff 1.11.1  (landing page)
Zhe Wang
git_last_commit: a5dbefa
git_last_commit_date: 2021-10-04 12:40:21 -0400
nebbiolo2Linux (Ubuntu 20.04.2 LTS) / x86_64  OK    OK    OK  UNNEEDED, same version is already published
riesling1Windows Server 2019 Standard / x64  OK    OK    OK    OK  UNNEEDED, same version is already published
merida1macOS 10.14.6 Mojave / x86_64  OK    OK    OK    NA