Index of /checkResults/3.14/bioc-LATEST/RmiR/raw-results/tokay2
Name
Last modified
Size
Description
Parent Directory
-
install-out.txt
14-Apr-2022 01:07
1.2K
install-summary.dcf
14-Apr-2022 01:07
615
buildsrc-out.txt
14-Apr-2022 01:07
927
buildsrc-summary.dcf
14-Apr-2022 01:07
448