Index of /checkResults/3.14/bioc-LATEST/RmiR/raw-results/machv2
Name
Last modified
Size
Description
Parent Directory
-
buildsrc-out.txt
14-Apr-2022 01:08
882
buildsrc-summary.dcf
14-Apr-2022 01:08
336
install-out.txt
14-Apr-2022 01:08
679
install-summary.dcf
14-Apr-2022 01:08
265