Name | Last modified | Size | Description | |
---|---|---|---|---|
Parent Directory | - | |||
buildbin-out.txt | 14-Apr-2022 01:08 | 3.1K | ||
buildbin-summary.dcf | 14-Apr-2022 01:08 | 518 | ||
checksrc-summary.dcf | 14-Apr-2022 01:08 | 436 | ||
checksrc-out.txt | 14-Apr-2022 01:08 | 19K | ||
buildsrc-summary.dcf | 14-Apr-2022 01:08 | 421 | ||
buildsrc-out.txt | 14-Apr-2022 01:08 | 838 | ||
install-summary.dcf | 14-Apr-2022 01:08 | 265 | ||
install-out.txt | 14-Apr-2022 01:08 | 2.3K | ||