Index of /checkResults/3.14/bioc-LATEST/ResidualMatrix/raw-results

[ICO]NameLast modifiedSizeDescription

[DIR]Parent Directory  -  
[   ]info.dcf30-Nov-2021 05:06 302  
[DIR]machv2/30-Nov-2021 05:06 -  
[DIR]nebbiolo2/30-Nov-2021 05:05 -  
[DIR]tokay2/30-Nov-2021 05:05 -