![]() | Name | Last modified | Size | Description |
---|---|---|---|---|
![]() | Parent Directory | - | ||
![]() | install-out.txt | 14-Apr-2022 01:07 | 2.3K | |
![]() | install-summary.dcf | 14-Apr-2022 01:07 | 640 | |
![]() | buildsrc-out.txt | 14-Apr-2022 01:07 | 845 | |
![]() | buildsrc-summary.dcf | 14-Apr-2022 01:07 | 457 | |
![]() | checksrc-out.txt | 14-Apr-2022 01:07 | 4.5K | |
![]() | checksrc-summary.dcf | 14-Apr-2022 01:07 | 462 | |
![]() | buildbin-out.txt | 14-Apr-2022 01:07 | 1.6K | |
![]() | buildbin-summary.dcf | 14-Apr-2022 01:07 | 539 | |