Name | Last modified | Size | Description | |
---|---|---|---|---|
Parent Directory | - | |||
buildbin-summary.dcf | 14-Apr-2022 01:07 | 533 | ||
buildbin-out.txt | 14-Apr-2022 01:07 | 79K | ||
checksrc-summary.dcf | 14-Apr-2022 01:07 | 463 | ||
checksrc-out.txt | 14-Apr-2022 01:07 | 8.3K | ||
buildsrc-summary.dcf | 14-Apr-2022 01:07 | 454 | ||
buildsrc-out.txt | 14-Apr-2022 01:07 | 1.1K | ||
install-summary.dcf | 14-Apr-2022 01:07 | 632 | ||
install-out.txt | 14-Apr-2022 01:07 | 80K | ||