![]() | Name | Last modified | Size | Description |
---|---|---|---|---|
![]() | Parent Directory | - | ||
![]() | install-summary.dcf | 14-Apr-2022 01:05 | 257 | |
![]() | buildsrc-summary.dcf | 14-Apr-2022 01:05 | 414 | |
![]() | checksrc-summary.dcf | 14-Apr-2022 01:05 | 425 | |
![]() | buildsrc-out.txt | 14-Apr-2022 01:05 | 880 | |
![]() | checksrc-out.txt | 14-Apr-2022 01:05 | 7.3K | |
![]() | install-out.txt | 14-Apr-2022 01:05 | 39K | |