![]() | Name | Last modified | Size | Description |
---|---|---|---|---|
![]() | Parent Directory | - | ||
![]() | buildbin-out.txt | 14-Apr-2022 01:08 | 1.3K | |
![]() | buildbin-summary.dcf | 14-Apr-2022 01:08 | 601 | |
![]() | buildsrc-out.txt | 14-Apr-2022 01:08 | 1.1K | |
![]() | buildsrc-summary.dcf | 14-Apr-2022 01:08 | 464 | |
![]() | checksrc-out.txt | 14-Apr-2022 01:08 | 4.1K | |
![]() | checksrc-summary.dcf | 14-Apr-2022 01:08 | 498 | |
![]() | install-out.txt | 14-Apr-2022 01:08 | 1.1K | |
![]() | install-summary.dcf | 14-Apr-2022 01:08 | 293 | |