Name | Last modified | Size | Description | |
---|---|---|---|---|
Parent Directory | - | |||
buildsrc-summary.dcf | 14-Apr-2022 01:07 | 463 | ||
checksrc-summary.dcf | 14-Apr-2022 01:07 | 466 | ||
buildbin-summary.dcf | 14-Apr-2022 01:07 | 545 | ||
install-summary.dcf | 14-Apr-2022 01:07 | 649 | ||
buildsrc-out.txt | 14-Apr-2022 01:07 | 887 | ||
buildbin-out.txt | 14-Apr-2022 01:07 | 1.7K | ||
install-out.txt | 14-Apr-2022 01:07 | 2.4K | ||
checksrc-out.txt | 14-Apr-2022 01:07 | 4.3K | ||