![]() | Name | Last modified | Size | Description |
---|---|---|---|---|
![]() | Parent Directory | - | ||
![]() | checksrc-summary.dcf | 14-Apr-2022 01:05 | 428 | |
![]() | checksrc-out.txt | 14-Apr-2022 01:05 | 3.4K | |
![]() | buildsrc-summary.dcf | 14-Apr-2022 01:05 | 420 | |
![]() | buildsrc-out.txt | 14-Apr-2022 01:05 | 850 | |
![]() | install-summary.dcf | 14-Apr-2022 01:05 | 261 | |
![]() | install-out.txt | 14-Apr-2022 01:05 | 950 | |