Name | Last modified | Size | Description | |
---|---|---|---|---|
Parent Directory | - | |||
install-summary.dcf | 14-Apr-2022 01:05 | 251 | ||
install-out.txt | 14-Apr-2022 01:05 | 943 | ||
checksrc-summary.dcf | 14-Apr-2022 01:05 | 408 | ||
checksrc-out.txt | 14-Apr-2022 01:05 | 3.3K | ||
buildsrc-summary.dcf | 14-Apr-2022 01:05 | 406 | ||
buildsrc-out.txt | 14-Apr-2022 01:05 | 853 | ||