Name | Last modified | Size | Description | |
---|---|---|---|---|
Parent Directory | - | |||
install-out.txt | 14-Apr-2022 01:08 | 48K | ||
install-summary.dcf | 14-Apr-2022 01:08 | 279 | ||
buildsrc-out.txt | 14-Apr-2022 01:08 | 913 | ||
buildsrc-summary.dcf | 14-Apr-2022 01:08 | 440 | ||
checksrc-out.txt | 14-Apr-2022 01:08 | 3.8K | ||
checksrc-summary.dcf | 14-Apr-2022 01:08 | 467 | ||
buildbin-summary.dcf | 14-Apr-2022 01:08 | 558 | ||
buildbin-out.txt | 14-Apr-2022 01:08 | 50K | ||