Name | Last modified | Size | Description | |
---|---|---|---|---|
Parent Directory | - | |||
install-summary.dcf | 14-Apr-2022 01:05 | 264 | ||
install-out.txt | 14-Apr-2022 01:05 | 964 | ||
checksrc-summary.dcf | 14-Apr-2022 01:05 | 434 | ||
checksrc-out.txt | 14-Apr-2022 01:05 | 3.4K | ||
buildsrc-summary.dcf | 14-Apr-2022 01:05 | 425 | ||
buildsrc-out.txt | 14-Apr-2022 01:05 | 880 | ||