Name | Last modified | Size | Description | |
---|---|---|---|---|
Parent Directory | - | |||
install-summary.dcf | 14-Apr-2022 01:07 | 652 | ||
install-out.txt | 14-Apr-2022 01:07 | 2.5K | ||
checksrc-summary.dcf | 14-Apr-2022 01:07 | 468 | ||
checksrc-out.txt | 14-Apr-2022 01:07 | 4.1K | ||
buildsrc-summary.dcf | 14-Apr-2022 01:07 | 464 | ||
buildsrc-out.txt | 14-Apr-2022 01:07 | 947 | ||
buildbin-summary.dcf | 14-Apr-2022 01:07 | 548 | ||
buildbin-out.txt | 14-Apr-2022 01:07 | 1.8K | ||