Name | Last modified | Size | Description | |
---|---|---|---|---|
Parent Directory | - | |||
install-summary.dcf | 14-Apr-2022 01:08 | 271 | ||
install-out.txt | 14-Apr-2022 01:08 | 1.0K | ||
checksrc-summary.dcf | 14-Apr-2022 01:08 | 450 | ||
checksrc-out.txt | 14-Apr-2022 01:08 | 3.4K | ||
buildsrc-summary.dcf | 14-Apr-2022 01:08 | 432 | ||
buildsrc-out.txt | 14-Apr-2022 01:08 | 918 | ||
buildbin-summary.dcf | 14-Apr-2022 01:08 | 539 | ||
buildbin-out.txt | 14-Apr-2022 01:08 | 1.2K | ||