Name | Last modified | Size | Description | |
---|---|---|---|---|
Parent Directory | - | |||
buildbin-summary.dcf | 14-Apr-2022 01:07 | 600 | ||
buildbin-out.txt | 14-Apr-2022 01:07 | 7.6K | ||
checksrc-summary.dcf | 14-Apr-2022 01:07 | 502 | ||
checksrc-out.txt | 14-Apr-2022 01:07 | 5.2K | ||
buildsrc-summary.dcf | 14-Apr-2022 01:07 | 499 | ||
buildsrc-out.txt | 14-Apr-2022 01:07 | 1.0K | ||
install-summary.dcf | 14-Apr-2022 01:07 | 731 | ||
install-out.txt | 14-Apr-2022 01:07 | 8.3K | ||