Name | Last modified | Size | Description | |
---|---|---|---|---|
Parent Directory | - | |||
buildsrc-out.txt | 14-Apr-2022 01:05 | 794 | ||
buildsrc-summary.dcf | 14-Apr-2022 01:05 | 409 | ||
checksrc-out.txt | 14-Apr-2022 01:05 | 3.9K | ||
checksrc-summary.dcf | 14-Apr-2022 01:05 | 412 | ||
install-out.txt | 14-Apr-2022 01:05 | 1.3K | ||
install-summary.dcf | 14-Apr-2022 01:05 | 253 | ||