Name | Last modified | Size | Description | |
---|---|---|---|---|
Parent Directory | - | |||
install-out.txt | 14-Apr-2022 01:07 | 9.2K | ||
install-summary.dcf | 14-Apr-2022 01:07 | 632 | ||
buildsrc-out.txt | 14-Apr-2022 01:07 | 1.1K | ||
buildsrc-summary.dcf | 14-Apr-2022 01:07 | 455 | ||
checksrc-out.txt | 14-Apr-2022 01:07 | 7.8K | ||
checksrc-summary.dcf | 14-Apr-2022 01:07 | 458 | ||
buildbin-out.txt | 14-Apr-2022 01:07 | 8.3K | ||
buildbin-summary.dcf | 14-Apr-2022 01:07 | 534 | ||