Name | Last modified | Size | Description | |
---|---|---|---|---|
Parent Directory | - | |||
buildsrc-out.txt | 14-Apr-2022 01:05 | 1.1K | ||
buildsrc-summary.dcf | 14-Apr-2022 01:05 | 415 | ||
checksrc-out.txt | 14-Apr-2022 01:05 | 6.6K | ||
checksrc-summary.dcf | 14-Apr-2022 01:05 | 420 | ||
install-out.txt | 14-Apr-2022 01:05 | 3.2K | ||
install-summary.dcf | 14-Apr-2022 01:05 | 257 | ||