Name | Last modified | Size | Description | |
---|---|---|---|---|
Parent Directory | - | |||
install-summary.dcf | 14-Apr-2022 01:08 | 268 | ||
install-out.txt | 14-Apr-2022 01:08 | 3.8K | ||
checksrc-summary.dcf | 14-Apr-2022 01:08 | 440 | ||
checksrc-out.txt | 14-Apr-2022 01:08 | 6.2K | ||
buildsrc-summary.dcf | 14-Apr-2022 01:08 | 425 | ||
buildsrc-out.txt | 14-Apr-2022 01:08 | 1.1K | ||
buildbin-summary.dcf | 14-Apr-2022 01:08 | 525 | ||
buildbin-out.txt | 14-Apr-2022 01:08 | 4.6K | ||