Name | Last modified | Size | Description | |
---|---|---|---|---|
Parent Directory | - | |||
checksrc-out.txt | 14-Apr-2022 01:08 | 3.6K | ||
buildbin-out.txt | 14-Apr-2022 01:08 | 3.3K | ||
install-out.txt | 14-Apr-2022 01:08 | 2.4K | ||
buildsrc-out.txt | 14-Apr-2022 01:08 | 914 | ||
buildbin-summary.dcf | 14-Apr-2022 01:08 | 572 | ||
checksrc-summary.dcf | 14-Apr-2022 01:08 | 471 | ||
buildsrc-summary.dcf | 14-Apr-2022 01:08 | 449 | ||
install-summary.dcf | 14-Apr-2022 01:08 | 283 | ||