Back to Multiple platform build/check report for BioC 3.14
ABCDEFGHIJKLMNOP[Q]RSTUVWXYZ

This page was generated on 2021-10-25 14:06:33 -0400 (Mon, 25 Oct 2021).

BUILD BIN results for QDNAseq on riesling1

To the developers/maintainers of the QDNAseq package:
- Please allow up to 24 hours (and sometimes 48 hours) for your latest push to git@git.bioconductor.org:packages/QDNAseq.git to
reflect on this report. See How and When does the builder pull? When will my changes propagate? here for more information.
- Make sure to use the following settings in order to reproduce any error or warning you see on this page.

raw results

Package 1496/2083HostnameOS / ArchINSTALLBUILDCHECKBUILD BIN
QDNAseq 1.29.6  (landing page)
Daoud Sie
Snapshot Date: 2021-10-24 14:50:04 -0400 (Sun, 24 Oct 2021)
git_url: https://git.bioconductor.org/packages/QDNAseq
git_branch: master
git_last_commit: 461220f
git_last_commit_date: 2021-10-23 16:22:11 -0400 (Sat, 23 Oct 2021)
nebbiolo2Linux (Ubuntu 20.04.2 LTS) / x86_64  OK    OK    OK  YES
riesling1Windows Server 2019 Standard / x64  OK    OK    OK    OK  YES
merida1macOS 10.14.6 Mojave / x86_64  OK    OK    OK    OK  YES
machv2macOS 10.14.6 Mojave / x86_64  OK    OK    OK    OK  

Summary

Package: QDNAseq
Version: 1.29.6
Command: rm -rf QDNAseq.buildbin-libdir && mkdir QDNAseq.buildbin-libdir && D:\biocbuild\bbs-3.14-bioc\R\bin\R.exe CMD INSTALL --merge-multiarch --build --library=QDNAseq.buildbin-libdir QDNAseq_1.29.6.tar.gz
StartedAt: 2021-10-25 07:10:51 -0400 (Mon, 25 Oct 2021)
EndedAt: 2021-10-25 07:15:30 -0400 (Mon, 25 Oct 2021)
EllapsedTime: 279.2 seconds
RetCode: 0
Status:   OK  
PackageFile: QDNAseq_1.29.6.zip
PackageFileSize: 1.429 MiB

Command output

##############################################################################
##############################################################################
###
### Running command:
###
###   rm -rf QDNAseq.buildbin-libdir && mkdir QDNAseq.buildbin-libdir && D:\biocbuild\bbs-3.14-bioc\R\bin\R.exe CMD INSTALL --merge-multiarch --build --library=QDNAseq.buildbin-libdir QDNAseq_1.29.6.tar.gz
###
##############################################################################
##############################################################################



install for i386

* installing *source* package 'QDNAseq' ...
** using staged installation
** R
** data
** inst
** byte-compile and prepare package for lazy loading
** help
*** installing help indices
  converting help for package 'QDNAseq'
    finding HTML links ... done
    LGG150                                  html  
    QDNAseq-defunct                         html  
    QDNAseq-package                         html  
    QDNAseqCopyNumbers                      html  
    QDNAseqReadCounts                       html  
    QDNAseqSignals                          html  
    addPhenodata                            html  
    applyFilters                            html  
    binReadCounts                           html  
    callBins                                html  
    compareToReference                      html  
    correctBins                             html  
    createBins                              html  
    estimateCorrection                      html  
    exportBins                              html  
    finding level-2 HTML links ... done

    frequencyPlot                           html  
    getBinAnnotations                       html  
    highlightFilters                        html  
    isobarPlot                              html  
    makeCgh                                 html  
    noisePlot                               html  
    normalizeBins                           html  
    normalizeSegmentedBins                  html  
    plot                                    html  
    poolRuns                                html  
    segmentBins                             html  
    smoothOutlierBins                       html  
** building package indices
** installing vignettes
** testing if installed package can be loaded from temporary location
** testing if installed package can be loaded from final location
** testing if installed package keeps a record of temporary installation path

install for x64

* installing *source* package 'QDNAseq' ...
** testing if installed package can be loaded
* MD5 sums
packaged installation of 'QDNAseq' as QDNAseq_1.29.6.zip
* DONE (QDNAseq)