Name | Last modified | Size | Description | |
---|---|---|---|---|
Parent Directory | - | |||
install-summary.dcf | 14-Apr-2022 01:05 | 259 | ||
install-out.txt | 14-Apr-2022 01:05 | 1.0K | ||
checksrc-summary.dcf | 14-Apr-2022 01:05 | 426 | ||
checksrc-out.txt | 14-Apr-2022 01:05 | 4.3K | ||
buildsrc-summary.dcf | 14-Apr-2022 01:05 | 419 | ||
buildsrc-out.txt | 14-Apr-2022 01:05 | 809 | ||