Index of /checkResults/3.14/bioc-LATEST/ProteomicsAnnotationHubData/raw-results/machv2
Name
Last modified
Size
Description
Parent Directory
-
install-summary.dcf
14-Apr-2022 01:08
309
install-out.txt
14-Apr-2022 01:08
1.0K
buildsrc-summary.dcf
14-Apr-2022 01:08
384
buildsrc-out.txt
14-Apr-2022 01:08
1.2K