Index of /checkResults/3.14/bioc-LATEST/PanVizGenerator/raw-results/nebbiolo2
Name
Last modified
Size
Description
Parent Directory
-
install-summary.dcf
14-Apr-2022 01:05
277
install-out.txt
14-Apr-2022 01:05
655
buildsrc-summary.dcf
14-Apr-2022 01:05
348
buildsrc-out.txt
14-Apr-2022 01:05
920