Name | Last modified | Size | Description | |
---|---|---|---|---|
Parent Directory | - | |||
buildbin-out.txt | 14-Apr-2022 01:07 | 2.4K | ||
buildbin-summary.dcf | 14-Apr-2022 01:07 | 518 | ||
buildsrc-out.txt | 14-Apr-2022 01:07 | 829 | ||
buildsrc-summary.dcf | 14-Apr-2022 01:07 | 445 | ||
checksrc-out.txt | 14-Apr-2022 01:07 | 12K | ||
checksrc-summary.dcf | 14-Apr-2022 01:07 | 448 | ||
install-out.txt | 14-Apr-2022 01:07 | 3.1K | ||
install-summary.dcf | 14-Apr-2022 01:07 | 607 | ||