Name | Last modified | Size | Description | |
---|---|---|---|---|
Parent Directory | - | |||
buildbin-out.txt | 14-Apr-2022 01:07 | 5.8K | ||
buildbin-summary.dcf | 14-Apr-2022 01:07 | 520 | ||
buildsrc-out.txt | 14-Apr-2022 01:07 | 830 | ||
buildsrc-summary.dcf | 14-Apr-2022 01:07 | 447 | ||
checksrc-out.txt | 14-Apr-2022 01:07 | 6.6K | ||
checksrc-summary.dcf | 14-Apr-2022 01:07 | 457 | ||
install-out.txt | 14-Apr-2022 01:07 | 6.5K | ||
install-summary.dcf | 14-Apr-2022 01:07 | 613 | ||