Name | Last modified | Size | Description | |
---|---|---|---|---|
Parent Directory | - | |||
install-out.txt | 14-Apr-2022 01:07 | 6.9K | ||
install-summary.dcf | 14-Apr-2022 01:07 | 605 | ||
buildsrc-out.txt | 14-Apr-2022 01:07 | 1.0K | ||
buildsrc-summary.dcf | 14-Apr-2022 01:07 | 443 | ||
checksrc-out.txt | 14-Apr-2022 01:07 | 13K | ||
checksrc-summary.dcf | 14-Apr-2022 01:07 | 446 | ||
buildbin-out.txt | 14-Apr-2022 01:07 | 6.0K | ||
buildbin-summary.dcf | 14-Apr-2022 01:07 | 515 | ||