Index of /checkResults/3.14/bioc-LATEST/Onassis/raw-results/tokay2
Name
Last modified
Size
Description
Parent Directory
-
install-summary.dcf
14-Apr-2022 01:07
302
install-out.txt
14-Apr-2022 01:07
664
buildsrc-summary.dcf
14-Apr-2022 01:07
384
buildsrc-out.txt
14-Apr-2022 01:07
950