Index of /checkResults/3.14/bioc-LATEST/Onassis/raw-results/nebbiolo2
Name
Last modified
Size
Description
Parent Directory
-
buildsrc-out.txt
14-Apr-2022 01:05
875
buildsrc-summary.dcf
14-Apr-2022 01:05
332
install-out.txt
14-Apr-2022 01:05
627
install-summary.dcf
14-Apr-2022 01:05
261