Name | Last modified | Size | Description | |
---|---|---|---|---|
Parent Directory | - | |||
buildbin-out.txt | 14-Apr-2022 01:06 | 5.2K | ||
buildbin-summary.dcf | 14-Apr-2022 01:06 | 602 | ||
buildsrc-out.txt | 14-Apr-2022 01:06 | 936 | ||
buildsrc-summary.dcf | 14-Apr-2022 01:06 | 501 | ||
checksrc-out.txt | 14-Apr-2022 01:06 | 5.7K | ||
checksrc-summary.dcf | 14-Apr-2022 01:06 | 505 | ||
install-out.txt | 14-Apr-2022 01:06 | 6.0K | ||
install-summary.dcf | 14-Apr-2022 01:06 | 734 | ||