Name | Last modified | Size | Description | |
---|---|---|---|---|
Parent Directory | - | |||
buildsrc-out.txt | 14-Apr-2022 01:05 | 889 | ||
buildsrc-summary.dcf | 14-Apr-2022 01:05 | 450 | ||
checksrc-out.txt | 14-Apr-2022 01:05 | 3.9K | ||
checksrc-summary.dcf | 14-Apr-2022 01:05 | 466 | ||
install-out.txt | 14-Apr-2022 01:05 | 1.0K | ||
install-summary.dcf | 14-Apr-2022 01:05 | 280 | ||