Name | Last modified | Size | Description | |
---|---|---|---|---|
Parent Directory | - | |||
buildbin-out.txt | 14-Apr-2022 01:08 | 2.4K | ||
buildbin-summary.dcf | 14-Apr-2022 01:08 | 578 | ||
buildsrc-out.txt | 14-Apr-2022 01:08 | 911 | ||
buildsrc-summary.dcf | 14-Apr-2022 01:08 | 452 | ||
checksrc-out.txt | 14-Apr-2022 01:08 | 5.6K | ||
checksrc-summary.dcf | 14-Apr-2022 01:08 | 482 | ||
install-out.txt | 14-Apr-2022 01:08 | 2.2K | ||
install-summary.dcf | 14-Apr-2022 01:08 | 285 | ||