Back to Multiple platform build/check report for BioC 3.14
ABCDEFGHIJKL[M]NOPQRSTUVWXYZ

This page was generated on 2022-01-14 13:06:42 -0500 (Fri, 14 Jan 2022).

HostnameOSArch (*)R versionInstalled pkgs
nebbiolo2Linux (Ubuntu 20.04.4 LTS)x86_644.1.2 (2021-11-01) -- "Bird Hippie" 4327
tokay2Windows Server 2012 R2 Standardx644.1.2 (2021-11-01) -- "Bird Hippie" 4076
machv2macOS 10.14.6 Mojavex86_644.1.2 (2021-11-01) -- "Bird Hippie" 4137
Click on any hostname to see more info about the system (e.g. compilers)      (*) as reported by 'uname -p', except on Windows and Mac OS X

BUILD BIN results for MethTargetedNGS on tokay2


To the developers/maintainers of the MethTargetedNGS package:
- Please allow up to 24 hours (and sometimes 48 hours) for your latest push to git@git.bioconductor.org:packages/MethTargetedNGS.git to
reflect on this report. See How and When does the builder pull? When will my changes propagate? here for more information.
- Make sure to use the following settings in order to reproduce any error or warning you see on this page.

raw results

Package 1116/2083HostnameOS / ArchINSTALLBUILDCHECKBUILD BIN
MethTargetedNGS 1.26.0  (landing page)
Muhammad Ahmer Jamil
Snapshot Date: 2022-01-13 01:55:04 -0500 (Thu, 13 Jan 2022)
git_url: https://git.bioconductor.org/packages/MethTargetedNGS
git_branch: RELEASE_3_14
git_last_commit: 3ffc14b
git_last_commit_date: 2021-10-26 12:20:11 -0500 (Tue, 26 Oct 2021)
nebbiolo2Linux (Ubuntu 20.04.4 LTS) / x86_64  OK    OK    OK  UNNEEDED, same version is already published
tokay2Windows Server 2012 R2 Standard / x64  OK    OK    OK    OK  UNNEEDED, same version is already published
machv2macOS 10.14.6 Mojave / x86_64  OK    OK    OK    OK  UNNEEDED, same version is already published

Summary

Package: MethTargetedNGS
Version: 1.26.0
Command: rm -rf MethTargetedNGS.buildbin-libdir && mkdir MethTargetedNGS.buildbin-libdir && C:\Users\biocbuild\bbs-3.14-bioc\R\bin\R.exe CMD INSTALL --merge-multiarch --build --library=MethTargetedNGS.buildbin-libdir MethTargetedNGS_1.26.0.tar.gz
StartedAt: 2022-01-14 06:02:35 -0500 (Fri, 14 Jan 2022)
EndedAt: 2022-01-14 06:02:55 -0500 (Fri, 14 Jan 2022)
EllapsedTime: 20.1 seconds
RetCode: 0
Status:   OK  
PackageFile: MethTargetedNGS_1.26.0.zip
PackageFileSize: 244.6 KiB

Command output

##############################################################################
##############################################################################
###
### Running command:
###
###   rm -rf MethTargetedNGS.buildbin-libdir && mkdir MethTargetedNGS.buildbin-libdir && C:\Users\biocbuild\bbs-3.14-bioc\R\bin\R.exe CMD INSTALL --merge-multiarch --build --library=MethTargetedNGS.buildbin-libdir MethTargetedNGS_1.26.0.tar.gz
###
##############################################################################
##############################################################################



install for i386

* installing *source* package 'MethTargetedNGS' ...
** using staged installation
** R
** inst
** byte-compile and prepare package for lazy loading
** help
*** installing help indices
  converting help for package 'MethTargetedNGS'
    finding HTML links ... done
    MethTargetedNGS-package                 html  
    bconv                                   html  
    compare_samples                         html  
    fishertest_cpg                          html  
    hmmbuild                                html  
    methAlign                               html  
    methAvg                                 html  
    methEntropy                             html  
    methHeatmap                             html  
    nhmmer                                  html  
    odd_ratio                               html  
** building package indices
** installing vignettes
** testing if installed package can be loaded from temporary location
** testing if installed package can be loaded from final location
** testing if installed package keeps a record of temporary installation path

install for x64

* installing *source* package 'MethTargetedNGS' ...
** testing if installed package can be loaded
* MD5 sums
packaged installation of 'MethTargetedNGS' as MethTargetedNGS_1.26.0.zip
* DONE (MethTargetedNGS)