Name | Last modified | Size | Description | |
---|---|---|---|---|
Parent Directory | - | |||
checksrc-out.txt | 14-Apr-2022 01:06 | 4.0K | ||
install-out.txt | 14-Apr-2022 01:06 | 2.5K | ||
buildbin-out.txt | 14-Apr-2022 01:06 | 1.8K | ||
buildsrc-out.txt | 14-Apr-2022 01:06 | 835 | ||
install-summary.dcf | 14-Apr-2022 01:06 | 622 | ||
buildbin-summary.dcf | 14-Apr-2022 01:06 | 527 | ||
checksrc-summary.dcf | 14-Apr-2022 01:06 | 454 | ||
buildsrc-summary.dcf | 14-Apr-2022 01:06 | 450 | ||