Index of /checkResults/3.14/bioc-LATEST/MWASTools/raw-results

[ICO]NameLast modifiedSizeDescription

[DIR]Parent Directory  -  
[DIR]nebbiolo2/14-Apr-2022 01:05 -  
[DIR]tokay2/14-Apr-2022 01:06 -  
[   ]info.dcf14-Apr-2022 01:08 347  
[DIR]machv2/14-Apr-2022 01:08 -