Index of /checkResults/3.14/bioc-LATEST/MSstatsTMTPTM/raw-results/machv2
Name
Last modified
Size
Description
Parent Directory
-
install-out.txt
14-Apr-2022 01:08
2.3K
install-summary.dcf
14-Apr-2022 01:08
280
buildsrc-out.txt
14-Apr-2022 01:08
1.8K
buildsrc-summary.dcf
14-Apr-2022 01:08
354