Index of /checkResults/3.14/bioc-LATEST/MSGFplus/raw-results/machv2
Name
Last modified
Size
Description
Parent Directory
-
buildsrc-out.txt
14-Apr-2022 01:08
1.5K
buildsrc-summary.dcf
14-Apr-2022 01:08
345
install-out.txt
14-Apr-2022 01:08
1.3K
install-summary.dcf
14-Apr-2022 01:08
274