Name | Last modified | Size | Description | |
---|---|---|---|---|
Parent Directory | - | |||
buildsrc-out.txt | 14-Apr-2022 01:05 | 805 | ||
buildsrc-summary.dcf | 14-Apr-2022 01:05 | 415 | ||
checksrc-out.txt | 14-Apr-2022 01:05 | 3.2K | ||
checksrc-summary.dcf | 14-Apr-2022 01:05 | 422 | ||
install-out.txt | 14-Apr-2022 01:05 | 947 | ||
install-summary.dcf | 14-Apr-2022 01:05 | 258 | ||