Name | Last modified | Size | Description | |
---|---|---|---|---|
Parent Directory | - | |||
install-summary.dcf | 14-Apr-2022 01:08 | 268 | ||
install-out.txt | 14-Apr-2022 01:08 | 1.0K | ||
buildsrc-out.txt | 14-Apr-2022 01:08 | 815 | ||
buildsrc-summary.dcf | 14-Apr-2022 01:08 | 426 | ||
checksrc-out.txt | 14-Apr-2022 01:08 | 3.3K | ||
checksrc-summary.dcf | 14-Apr-2022 01:08 | 442 | ||
buildbin-out.txt | 14-Apr-2022 01:08 | 1.1K | ||
buildbin-summary.dcf | 14-Apr-2022 01:08 | 527 | ||