Name | Last modified | Size | Description | |
---|---|---|---|---|
Parent Directory | - | |||
buildbin-summary.dcf | 14-Apr-2022 01:06 | 521 | ||
buildbin-out.txt | 14-Apr-2022 01:06 | 1.6K | ||
checksrc-summary.dcf | 14-Apr-2022 01:06 | 450 | ||
checksrc-out.txt | 14-Apr-2022 01:06 | 4.1K | ||
buildsrc-out.txt | 14-Apr-2022 01:06 | 1.0K | ||
buildsrc-summary.dcf | 14-Apr-2022 01:06 | 447 | ||
install-summary.dcf | 14-Apr-2022 01:06 | 613 | ||
install-out.txt | 14-Apr-2022 01:06 | 2.3K | ||