Back to Multiple platform build/check report for BioC 3.14
ABCDEFGHIJKL[M]NOPQRSTUVWXYZ

This page was generated on 2021-10-26 14:07:12 -0400 (Tue, 26 Oct 2021).

BUILD BIN results for MEIGOR on riesling1

To the developers/maintainers of the MEIGOR package:
- Please allow up to 24 hours (and sometimes 48 hours) for your latest push to git@git.bioconductor.org:packages/MEIGOR.git to
reflect on this report. See How and When does the builder pull? When will my changes propagate? here for more information.
- Make sure to use the following settings in order to reproduce any error or warning you see on this page.

raw results

Package 1080/2083HostnameOS / ArchINSTALLBUILDCHECKBUILD BIN
MEIGOR 1.27.0  (landing page)
Jose A. Egea
Snapshot Date: 2021-10-25 14:50:11 -0400 (Mon, 25 Oct 2021)
git_url: https://git.bioconductor.org/packages/MEIGOR
git_branch: master
git_last_commit: a613af8
git_last_commit_date: 2021-05-19 12:06:10 -0400 (Wed, 19 May 2021)
nebbiolo2Linux (Ubuntu 20.04.2 LTS) / x86_64  OK    OK    WARNINGS  UNNEEDED, same version is already published
riesling1Windows Server 2019 Standard / x64  OK    OK    WARNINGS    OK  UNNEEDED, same version is already published
merida1macOS 10.14.6 Mojave / x86_64  OK    OK    WARNINGS    OK  UNNEEDED, same version is already published
machv2macOS 10.14.6 Mojave / x86_64  OK    OK    WARNINGS    OK  

Summary

Package: MEIGOR
Version: 1.27.0
Command: rm -rf MEIGOR.buildbin-libdir && mkdir MEIGOR.buildbin-libdir && D:\biocbuild\bbs-3.14-bioc\R\bin\R.exe CMD INSTALL --merge-multiarch --build --library=MEIGOR.buildbin-libdir MEIGOR_1.27.0.tar.gz
StartedAt: 2021-10-26 07:17:08 -0400 (Tue, 26 Oct 2021)
EndedAt: 2021-10-26 07:21:44 -0400 (Tue, 26 Oct 2021)
EllapsedTime: 276.4 seconds
RetCode: 0
Status:   OK  
PackageFile: MEIGOR_1.27.0.zip
PackageFileSize: 995.3 KiB

Command output

##############################################################################
##############################################################################
###
### Running command:
###
###   rm -rf MEIGOR.buildbin-libdir && mkdir MEIGOR.buildbin-libdir && D:\biocbuild\bbs-3.14-bioc\R\bin\R.exe CMD INSTALL --merge-multiarch --build --library=MEIGOR.buildbin-libdir MEIGOR_1.27.0.tar.gz
###
##############################################################################
##############################################################################



install for i386

* installing *source* package 'MEIGOR' ...
** using staged installation
** R
** data
** inst
** byte-compile and prepare package for lazy loading
Note: possible error in 'runif(seed = options$seed)': unused argument (seed = options$seed) 
** help
*** installing help indices
  converting help for package 'MEIGOR'
    finding HTML links ... done
    BayesFit                                html  
    CeSSR                                   html  
    CeVNSR                                  html  
    MEIGO                                   html  
    MEIGOR-package                          html  
    cnolist                                 html  
    cur_params                              html  
    dhc                                     html  
    essR-MEIGOR                             html  
    essR                                    html  
    essR_multistart                         html  
    eucl_dist                               html  
    ith_VNSR                                html  
    ith_essR                                html  
    model                                   html  
    nls_fobj                                html  
    optim_fobj                              html  
    paramsOpt                               html  
    runBayesFit                             html  
    rvnds_hamming                           html  
    rvnds_local                             html  
    solnp_eq                                html  
    solnp_fobj                              html  
    solnp_ineq                              html  
    ssm_beyond                              html  
    ssm_defaults                            html  
    ssm_evalfc                              html  
    ssm_isdif2                              html  
    ssm_localsolver                         html  
    ssm_optset                              html  
    ssm_penalty_function                    html  
    ssm_round_int                           html  
    vns_defaults                            html  
    vns_optset                              html  
** building package indices
** installing vignettes
** testing if installed package can be loaded from temporary location
** testing if installed package can be loaded from final location
** testing if installed package keeps a record of temporary installation path

install for x64

* installing *source* package 'MEIGOR' ...
** testing if installed package can be loaded
* MD5 sums
packaged installation of 'MEIGOR' as MEIGOR_1.27.0.zip
* DONE (MEIGOR)