Index of /checkResults/3.14/bioc-LATEST/MEIGOR/raw-results/nebbiolo2

[ICO]NameLast modifiedSizeDescription

[DIR]Parent Directory  -  
[TXT]buildsrc-out.txt02-Dec-2021 07:17 1.1K 
[   ]buildsrc-summary.dcf02-Dec-2021 07:17 414  
[TXT]checksrc-out.txt02-Dec-2021 07:17 7.5K 
[   ]checksrc-summary.dcf02-Dec-2021 07:17 425  
[TXT]install-out.txt02-Dec-2021 07:17 1.0K 
[   ]install-summary.dcf02-Dec-2021 07:17 256