Index of /checkResults/3.14/bioc-LATEST/MEIGOR/raw-results

[ICO]NameLast modifiedSizeDescription

[DIR]Parent Directory  -  
[   ]info.dcf24-Oct-2021 03:07 263  
[DIR]merida1/24-Oct-2021 03:07 -  
[DIR]nebbiolo2/24-Oct-2021 03:06 -  
[DIR]riesling1/24-Oct-2021 03:06 -