Name | Last modified | Size | Description | |
---|---|---|---|---|
Parent Directory | - | |||
buildbin-out.txt | 14-Apr-2022 01:06 | 4.8K | ||
buildbin-summary.dcf | 14-Apr-2022 01:06 | 569 | ||
buildsrc-out.txt | 14-Apr-2022 01:06 | 870 | ||
buildsrc-summary.dcf | 14-Apr-2022 01:06 | 478 | ||
checksrc-out.txt | 14-Apr-2022 01:06 | 9.3K | ||
checksrc-summary.dcf | 14-Apr-2022 01:06 | 488 | ||
install-out.txt | 14-Apr-2022 01:06 | 5.5K | ||
install-summary.dcf | 14-Apr-2022 01:06 | 685 | ||