Name | Last modified | Size | Description | |
---|---|---|---|---|
Parent Directory | - | |||
buildsrc-summary.dcf | 14-Apr-2022 01:06 | 442 | ||
checksrc-summary.dcf | 14-Apr-2022 01:06 | 445 | ||
buildbin-summary.dcf | 14-Apr-2022 01:06 | 514 | ||
install-summary.dcf | 14-Apr-2022 01:06 | 604 | ||
buildsrc-out.txt | 14-Apr-2022 01:06 | 885 | ||
buildbin-out.txt | 14-Apr-2022 01:06 | 2.1K | ||
install-out.txt | 14-Apr-2022 01:06 | 2.8K | ||
checksrc-out.txt | 14-Apr-2022 01:06 | 3.4K | ||