Index of /checkResults/3.14/bioc-LATEST/KEGGprofile/raw-results/tokay2
Name
Last modified
Size
Description
Parent Directory
-
buildsrc-out.txt
14-Apr-2022 01:06
962
buildsrc-summary.dcf
14-Apr-2022 01:06
476
install-out.txt
14-Apr-2022 01:06
1.3K
install-summary.dcf
14-Apr-2022 01:06
678