Index of /checkResults/3.14/bioc-LATEST/KEGGprofile/raw-results/nebbiolo2
Name
Last modified
Size
Description
Parent Directory
-
install-out.txt
14-Apr-2022 01:05
637
install-summary.dcf
14-Apr-2022 01:05
269
buildsrc-out.txt
14-Apr-2022 01:05
894
buildsrc-summary.dcf
14-Apr-2022 01:05
340