Index of /checkResults/3.14/bioc-LATEST/KEGGprofile/raw-results/machv2
Name
Last modified
Size
Description
Parent Directory
-
install-out.txt
14-Apr-2022 01:08
693
install-summary.dcf
14-Apr-2022 01:08
279
buildsrc-summary.dcf
14-Apr-2022 01:08
350
buildsrc-out.txt
14-Apr-2022 01:08
910